Workbook

Sheet Итог
B5: ВОРОНКА ПОДБОРА (Результативность процессов подбора на разных этапах)
A6: ЭТАП | B6: Количество | C6: Конверсия от предыдущего этапа | D6: Конверсия от общего количества | E6: ВОРОНКА ПОДБОРА
A8: Количество резюме кандидатов | B8: =данные!C25 -> 96 | D8: 1 | E8: =REPT("I",B8) -> IIIIIIIIIIIIIIIIIIIIIIIIIIIIIIIIIIIIIIIIIIIIIIIIIIIIIIIIIIIIIIIIIIIIIIIIIIIIIIIIIIIIIIIIIIIIIIII
A9: Количество телефонных интервью | B9: =данные!D25 -> 41 | C9: =B9/B8 -> 0.42708333 | D9: =B9/B8 -> 0.42708333 | E9: =REPT("I",B9) -> IIIIIIIIIIIIIIIIIIIIIIIIIIIIIIIIIIIIIIIII
A10: Количество приглашенных кандидатов | B10: =данные!E25 -> 18 | C10: =B10/B9 -> 0.43902439 | D10: =B10/B8 -> 0.1875 | E10: =REPT("I",B10) -> IIIIIIIIIIIIIIIIII
A11: Количество интервью с менеджером по персоналу | B11: =данные!F25 -> 10 | C11: =B11/B10 -> 0.55555556 | D11: =B11/B8 -> 0.10416667 | E11: =REPT("I",B11) -> IIIIIIIIII
A12: Количество интервью с руководителем службы\GM | B12: =данные!G25 -> 5 | C12: =B12/B11 -> 0.5 | D12: =B12/B8 -> 0.052083333 | E12: =REPT("I",B12) -> IIIII
A13: Количество проверок СБ\Рекомендации | B13: =данные!H25 -> 3 | C13: =B13/B12 -> 0.6 | D13: =B13/B8 -> 0.03125 | E13: =REPT("I",B13) -> III
A14: Количество выставленных JOB OFFER | B14: =данные!I25 -> 2 | C14: =B14/B13 -> 0.66666667 | D14: =B14/B8 -> 0.020833333 | E14: =REPT("I",B14) -> II
A15: Количество приемов | B15: =данные!J25 -> 1 | C15: =B15/B14 -> 0.5 | D15: =B15/B8 -> 0.010416667 | E15: =REPT("I",B15) -> I

Sheet данные
A1: start_date | B1: close_date | C1: Количество резюме кандидатов | D1: Количество телефонных интервью | E1: Количество приглашенных кандидатов | F1: Количество интервью с менеджером по персоналу | G1: Количество интервью с руководителем | H1: Количество проверок\рекомендаций | I1: Джоб оффер выставлен | J1: Количество приемов | K1: СПиР
A2: 46037 | C2: 8 | D2: 5 | E2: 0 | F2: 0 | G2: 0 | H2: 0 | I2: 0 | J2: 0 | K2: СПиР
A3: 46040 | C3: 1 | D3: 1 | E3: 1 | F3: 0 | G3: 0 | H3: 0 | I3: 0 | J3: 0 | K3: СПиР
A4: 46043 | C4: 6 | D4: 4 | E4: 1 | F4: 0 | G4: 0 | H4: 0 | I4: 0 | J4: 0 | K4: СПиР
A5: 46046 | C5: 7 | D5: 3 | E5: 1 | F5: 2 | G5: 2 | H5: 0 | I5: 0 | J5: 0 | K5: СПиР
A6: 46049 | C6: 3 | D6: 0 | E6: 0 | F6: 0 | G6: 0 | H6: 0 | I6: 0 | J6: 0 | K6: СПиР
A7: 46052 | C7: 6 | D7: 3 | E7: 1 | F7: 1 | G7: 0 | H7: 0 | I7: 0 | J7: 0 | K7: СПиР
A8: 46055 | C8: 7 | D8: 0 | E8: 0 | F8: 0 | G8: 0 | H8: 0 | I8: 0 | J8: 0 | K8: СПиР
A9: 46058 | C9: 3 | D9: 2 | E9: 0 | F9: 0 | G9: 0 | H9: 0 | I9: 0 | J9: 0 | K9: СПиР
A10: 46061 | C10: 4 | D10: 2 | E10: 1 | F10: 0 | G10: 0 | H10: 0 | I10: 0 | J10: 0
A11: 46064 | C11: 1 | D11: 1 | E11: 0 | F11: 0 | G11: 0 | H11: 0 | I11: 0 | J11: 0
A12: 46067 | C12: 7 | D12: 2 | E12: 2 | F12: 0 | G12: 0 | H12: 0 | I12: 0 | J12: 0
A13: 46070 | C13: 4 | D13: 2 | E13: 1 | F13: 1 | G13: 0 | H13: 0 | I13: 0 | J13: 0
A14: 46073 | C14: 7 | D14: 2 | E14: 1 | F14: 1 | G14: 1 | H14: 1 | I14: 0 | J14: 0
A15: 46076 | C15: 1 | D15: 0 | E15: 0 | F15: 0 | G15: 0 | H15: 0 | I15: 0 | J15: 0
A16: 46079 | C16: 5 | D16: 2 | E16: 2 | F16: 2 | G16: 0 | H16: 0 | I16: 0 | J16: 0
A17: 46082 | C17: 7 | D17: 2 | E17: 1 | F17: 0 | G17: 0 | H17: 0 | I17: 0 | J17: 0
A18: 46085 | C18: 7 | D18: 2 | E18: 1 | F18: 0 | G18: 0 | H18: 0 | I18: 0 | J18: 0
A19: 46088 | C19: 5 | D19: 2 | E19: 2 | F19: 0 | G19: 0 | H19: 0 | I19: 0 | J19: 0
A20: 46091 | C20: 1 | D20: 1 | E20: 1 | F20: 1 | G20: 1 | H20: 1 | I20: 0 | J20: 0
A21: 46094 | C21: 2 | D21: 2 | E21: 1 | F21: 1 | G21: 0 | H21: 0 | I21: 1 | J21: 0
... A24: 46103 | C24: 1 | D24: 0 | E24: 0 | F24: 0 | G24: 0 | H24: 0 | I24: 0 | J24: 0
A25: ИТОГО: | C25: =SUM(C2:C24) -> 96 | D25: =SUM(D2:D24) -> 41 | E25: =SUM(E2:E24) -> 18 | F25: =SUM(F2:F24) -> 10 | G25: =SUM(G2:G24) -> 5 | H25: =SUM(H2:H24) -> 3 | I25: =SUM(I2:I24) -> 2 | J25: =SUM(J2:J24) -> 1
